BEGIN:VCALENDAR
VERSION:2.0
PRODID:www.nyschildrensalliance.org
BEGIN:VEVENT
UID:69e89aea284af
DTSTART:20260623T120000Z
SEQUENCE:0
TRANSP:OPAQUE
DTEND:20260623T210000Z
URL:https://www.nyschildrensalliance.org/events/sibling-sexual-trauma-and-a
 buse/
LOCATION:Long Island University (LIU-Post)\, 720 Northern Blvd.\, Brookvill
 e\, NY 
X-APPLE-STRUCTURED-LOCATION;VALUE=URI;X-ADDRESS="Long Island University (LI
 U-Post), 720 Northern Blvd., Brookville, NY ";X-APPLE-RADIUS=49;X-TITLE=Lo
 ng Island University (LIU-Post):geo:40.817480,-73.596951
GEO:40.817480;-73.596951
SUMMARY:Sibling Sexual Trauma & Abuse: Breaking the Silence
CLASS:PUBLIC
DESCRIPTION:5WAVES\, Inc\, a NY-based grassroots 501c3 nonprofit\, dedicate
 d to increasing awareness and services for sibling sexual abuse is hosting
  the first conference in the US specifically on sibling sexual abuse\,…
X-ALT-DESC;FMTTYPE=text/html:<p><br>5WAVES\, Inc\, a NY-based grassroots 50
 1c3 nonprofit\, dedicated to increasing awareness and services for sibling
  sexual abuse is hosting the first conference in the US specifically on si
 bling sexual abuse\, titled <em>Sibling Sexual Trauma and Abuse: Breaking 
 the Silence\,</em>&nbsp\;in NYS\, at Long Island University\, Post Campus 
 in Brookville.&nbsp\;</p><p>It will be a single-day event\, on Tuesday Jun
 e 23\, with an early bird pricing of $200 that is valid through the end of
  March (light lunch and refreshments included). There will be presentation
 s specifically relevant to staff and professionals who treat children and 
 families affected by SSTA\, as well as those aimed at parents and adult su
 rvivors of SSTA. We invite you to browse our <a href=\"https://www.5waves.
 org/program-and-presenters\" data-outlook-id=\"1479ad75-802d-4060-bc37-689
 2948ae271\">listing of presenters and </a>presentations and&nbsp\;find mor
 e details on our&nbsp\;<a href=\"https://www.5waves.org/conference\" data-
 outlook-id=\"475ebd8c-39c1-44d3-918e-2a0486f38fde\">conference website</a>
 .&nbsp\;</p><p>Questions:&nbsp\; Brandy Black\, Cofounder\,&nbsp\;<a href=
 \"mailto:bblack@5waves.org\">bblack@5waves.org</a></p><p>5WAVES\, Inc. 501
 (c)(3) US-Registered Nonprofit</p><p>[image src=\"/assets/EARLY-PRICE-Flye
 r-jpeg.jpg\" id=\"2335\" width=\"500\" height=\"647\" class=\"leftAlone ss
 -htmleditorfield-file image\"]</p>
DTSTAMP:20260422T095450Z
END:VEVENT
END:VCALENDAR