BEGIN:VCALENDAR
VERSION:2.0
PRODID:www.nyschildrensalliance.org
BEGIN:VEVENT
UID:69e89a6a80ac2
DTSTART:20260430T130000Z
SEQUENCE:0
TRANSP:OPAQUE
DTEND:20260430T150000Z
URL:https://www.nyschildrensalliance.org/events/medical-forensic-evaluation
 -in-pediatric-patients/
LOCATION:virtual\, NY 
X-APPLE-STRUCTURED-LOCATION;VALUE=URI;X-ADDRESS="virtual, NY ";X-APPLE-RADI
 US=49;X-TITLE=virtual:geo:40.712749,-74.005994
GEO:40.712749;-74.005994
SUMMARY:Medical Forensic Evaluation in Pediatric Patients
CLASS:PUBLIC
DESCRIPTION:This presentation offers a practical\, multidisciplinary overvi
 ew of the medical forensic evaluation of pediatric patients.
X-ALT-DESC;FMTTYPE=text/html:<p>This presentation offers a practical\, mult
 idisciplinary overview of the medical forensic evaluation of pediatric pat
 ients.<br>Participants will gain critical insight into both sexual assault
  forensic examinations and child maltreatment evaluations as<br>conducted 
 at Albany Medical Center.</p><p><strong>FREE Virtual Training:&nbsp\;</str
 ong> Microsoft Teams meeting<br>Information <a rel=\"noopener\" href=\"[fi
 le_link\,id=2339]\" target=\"_blank\">HERE<br></a>Questions: <a href=\"mai
 lto:jami.rock@clintoncountyny.gov\">jami.rock@clintoncountyny.gov</a></p>
DTSTAMP:20260422T095242Z
END:VEVENT
END:VCALENDAR