BEGIN:VCALENDAR
VERSION:2.0
PRODID:www.nyschildrensalliance.org
BEGIN:VEVENT
UID:69e89b244f984
DTSTART:20260430T123000Z
SEQUENCE:0
TRANSP:OPAQUE
DTEND:20260430T193000Z
URL:https://www.nyschildrensalliance.org/events/child-safety-summit-3/
LOCATION:Celebrations on Park\, 136 Park Ave\, Binghamton\, NY 13903
X-APPLE-STRUCTURED-LOCATION;VALUE=URI;X-ADDRESS="Celebrations on Park, 136 
 Park Ave, Binghamton, NY 13903";X-APPLE-RADIUS=49;X-TITLE=Celebrations on 
 Park:geo:42.078510,-75.915158
GEO:42.078510;-75.915158
SUMMARY:Child Safety Summit
CLASS:PUBLIC
DESCRIPTION:Join this survivor-centered conference focused on deepening our
  understanding of child abuse through lived experience\, \nprofessionals' 
 insight & victim-centered practice.  \n\nKeynote speakers:  Dr.
X-ALT-DESC;FMTTYPE=text/html:<p><br>Join this survivor-centered conference 
 focused on deepening our understanding of child abuse through lived experi
 ence\, <br>professionals' insight &amp\; victim-centered practice.&nbsp\;<
 /p><p>Keynote speakers:&nbsp\; Dr. Sharon Zaffarese-Dippold and Joe Fazzar
 y<br>$50 registration/lunch is provided<br>Information <a href=\"[file_lin
 k\,id=2324]\">HERE</a>&nbsp\;<br>Questions:&nbsp\; Shannon Stewart at shan
 non@cvac.us or call 607-723-3200</p>
DTSTAMP:20260422T095548Z
END:VEVENT
END:VCALENDAR